BEGIN:VCALENDAR
VERSION:2.0
PRODID:-//Savoir &amp; Technologies - ECPv6.15.16//NONSGML v1.0//EN
CALSCALE:GREGORIAN
METHOD:PUBLISH
X-WR-CALNAME:Savoir &amp; Technologies
X-ORIGINAL-URL:https://savoir-et-technologies.org
X-WR-CALDESC:Évènements pour Savoir &amp; Technologies
REFRESH-INTERVAL;VALUE=DURATION:PT1H
X-Robots-Tag:noindex
X-PUBLISHED-TTL:PT1H
BEGIN:VTIMEZONE
TZID:Europe/Paris
BEGIN:DAYLIGHT
TZOFFSETFROM:+0100
TZOFFSETTO:+0200
TZNAME:CEST
DTSTART:20220327T010000
END:DAYLIGHT
BEGIN:STANDARD
TZOFFSETFROM:+0200
TZOFFSETTO:+0100
TZNAME:CET
DTSTART:20221030T010000
END:STANDARD
BEGIN:DAYLIGHT
TZOFFSETFROM:+0100
TZOFFSETTO:+0200
TZNAME:CEST
DTSTART:20230326T010000
END:DAYLIGHT
BEGIN:STANDARD
TZOFFSETFROM:+0200
TZOFFSETTO:+0100
TZNAME:CET
DTSTART:20231029T010000
END:STANDARD
BEGIN:DAYLIGHT
TZOFFSETFROM:+0100
TZOFFSETTO:+0200
TZNAME:CEST
DTSTART:20240331T010000
END:DAYLIGHT
BEGIN:STANDARD
TZOFFSETFROM:+0200
TZOFFSETTO:+0100
TZNAME:CET
DTSTART:20241027T010000
END:STANDARD
BEGIN:DAYLIGHT
TZOFFSETFROM:+0100
TZOFFSETTO:+0200
TZNAME:CEST
DTSTART:20250330T010000
END:DAYLIGHT
BEGIN:STANDARD
TZOFFSETFROM:+0200
TZOFFSETTO:+0100
TZNAME:CET
DTSTART:20251026T010000
END:STANDARD
BEGIN:DAYLIGHT
TZOFFSETFROM:+0100
TZOFFSETTO:+0200
TZNAME:CEST
DTSTART:20260329T010000
END:DAYLIGHT
BEGIN:STANDARD
TZOFFSETFROM:+0200
TZOFFSETTO:+0100
TZNAME:CET
DTSTART:20261025T010000
END:STANDARD
END:VTIMEZONE
BEGIN:VEVENT
DTSTART;TZID=Europe/Paris:20250704T080000
DTEND;TZID=Europe/Paris:20250710T170000
DTSTAMP:20260425T035800
CREATED:20250702T124650Z
LAST-MODIFIED:20250702T124650Z
UID:4537-1751616000-1752166800@savoir-et-technologies.org
SUMMARY:Publication des résultats du baccalauréat 2025
DESCRIPTION:
URL:https://savoir-et-technologies.org/event/publication-des-resultats-du-baccalaureat-2025/
END:VEVENT
BEGIN:VEVENT
DTSTART;TZID=Europe/Paris:20241019T080000
DTEND;TZID=Europe/Paris:20241104T170000
DTSTAMP:20260425T035800
CREATED:20240728T131358Z
LAST-MODIFIED:20240728T191303Z
UID:4024-1729324800-1730739600@savoir-et-technologies.org
SUMMARY:Vacances de la Toussaint
DESCRIPTION:
URL:https://savoir-et-technologies.org/event/vacances-de-la-toussaint-2/
END:VEVENT
BEGIN:VEVENT
DTSTART;TZID=Europe/Paris:20240903T080000
DTEND;TZID=Europe/Paris:20240903T170000
DTSTAMP:20260425T035800
CREATED:20240728T131215Z
LAST-MODIFIED:20240728T131221Z
UID:4021-1725350400-1725382800@savoir-et-technologies.org
SUMMARY:Rentrée scolaire 2024-2025 (Corse)
DESCRIPTION:
URL:https://savoir-et-technologies.org/event/rentree-scolaire-2024-2025-corse/
END:VEVENT
BEGIN:VEVENT
DTSTART;TZID=Europe/Paris:20240902T080000
DTEND;TZID=Europe/Paris:20241102T170000
DTSTAMP:20260425T035800
CREATED:20240728T131112Z
LAST-MODIFIED:20240728T131147Z
UID:4018-1725264000-1730566800@savoir-et-technologies.org
SUMMARY:Rentrée scolaire 2024-2025 (Zones A\, B et C)
DESCRIPTION:
URL:https://savoir-et-technologies.org/event/rentree-scolaire-2024-2025-zones-a-et-b/
END:VEVENT
BEGIN:VEVENT
DTSTART;TZID=Europe/Paris:20240706T080000
DTEND;TZID=Europe/Paris:20240706T170000
DTSTAMP:20260425T035800
CREATED:20240506T200421Z
LAST-MODIFIED:20240506T183917Z
UID:3249-1720252800-1720285200@savoir-et-technologies.org
SUMMARY:Vacances d'été
DESCRIPTION:
URL:https://savoir-et-technologies.org/event/vacances-dete/
END:VEVENT
BEGIN:VEVENT
DTSTART;TZID=Europe/Paris:20240624T080000
DTEND;TZID=Europe/Paris:20240703T170000
DTSTAMP:20260425T035800
CREATED:20240502T182747Z
LAST-MODIFIED:20240506T183723Z
UID:3718-1719216000-1720026000@savoir-et-technologies.org
SUMMARY:Bac 2024 - Grand oral
DESCRIPTION:
URL:https://savoir-et-technologies.org/event/bac-2024-grand-oral/
END:VEVENT
BEGIN:VEVENT
DTSTART;TZID=Europe/Paris:20240619T080000
DTEND;TZID=Europe/Paris:20240621T170000
DTSTAMP:20260425T035800
CREATED:20240501T182609Z
LAST-MODIFIED:20240506T183822Z
UID:3715-1718784000-1718989200@savoir-et-technologies.org
SUMMARY:Bac 2024 - épreuves de spécialité
DESCRIPTION:
URL:https://savoir-et-technologies.org/event/bac-2024-epreuves-de-specialite/
END:VEVENT
BEGIN:VEVENT
DTSTART;TZID=Europe/Paris:20240618T080000
DTEND;TZID=Europe/Paris:20240618T120000
DTSTAMP:20260425T035800
CREATED:20231006T182340Z
LAST-MODIFIED:20240506T183002Z
UID:3713-1718697600-1718712000@savoir-et-technologies.org
SUMMARY:Bac 2024 - épreuve de philosophie
DESCRIPTION:
URL:https://savoir-et-technologies.org/event/bac-2024-epreuve-de-philosophie/
END:VEVENT
BEGIN:VEVENT
DTSTART;TZID=Europe/Paris:20240519T080000
DTEND;TZID=Europe/Paris:20240519T170000
DTSTAMP:20260425T035800
CREATED:20230919T155713Z
LAST-MODIFIED:20240519T160001Z
UID:3782-1716105600-1716138000@savoir-et-technologies.org
SUMMARY:26 septembre : La Journée Européenne des Langues
DESCRIPTION:La Journée européenne des langues a lieu chaque année le 26 septembre.\nLes informations nécessaires sur le site de la Commission européenne\nLe site du Ministère de l’Education nationale
URL:https://savoir-et-technologies.org/event/26-septembre-la-journee-europeenne-des-langues/
END:VEVENT
BEGIN:VEVENT
DTSTART;VALUE=DATE:20240406
DTEND;VALUE=DATE:20240423
DTSTAMP:20260425T035800
CREATED:20230826T200321Z
LAST-MODIFIED:20230826T200505Z
UID:3247-1712361600-1713830399@savoir-et-technologies.org
SUMMARY:Vacances de printemps (zone C)
DESCRIPTION:
URL:https://savoir-et-technologies.org/event/vacances-de-printemps-2024-zone-c/
END:VEVENT
BEGIN:VEVENT
DTSTART;VALUE=DATE:20240210
DTEND;VALUE=DATE:20240227
DTSTAMP:20260425T035800
CREATED:20230826T200032Z
LAST-MODIFIED:20230826T200522Z
UID:3245-1707523200-1708991999@savoir-et-technologies.org
SUMMARY:Vacances d'hiver (zone C)
DESCRIPTION:
URL:https://savoir-et-technologies.org/event/vacances-dhiver-2024-zone-c/
END:VEVENT
BEGIN:VEVENT
DTSTART;VALUE=DATE:20231223
DTEND;VALUE=DATE:20240109
DTSTAMP:20260425T035800
CREATED:20230826T195751Z
LAST-MODIFIED:20230826T195751Z
UID:3243-1703289600-1704758399@savoir-et-technologies.org
SUMMARY:Vacances de Noël
DESCRIPTION:
URL:https://savoir-et-technologies.org/event/vacances-de-noel/
END:VEVENT
BEGIN:VEVENT
DTSTART;VALUE=DATE:20231021
DTEND;VALUE=DATE:20231107
DTSTAMP:20260425T035800
CREATED:20230826T195653Z
LAST-MODIFIED:20230826T195653Z
UID:3241-1697846400-1699315199@savoir-et-technologies.org
SUMMARY:Vacances de la Toussaint
DESCRIPTION:
URL:https://savoir-et-technologies.org/event/vacances-de-la-toussaint/
END:VEVENT
BEGIN:VEVENT
DTSTART;VALUE=DATE:20230911
DTEND;VALUE=DATE:20230930
DTSTAMP:20260425T035800
CREATED:20230826T212713Z
LAST-MODIFIED:20230826T212713Z
UID:3253-1694390400-1696031999@savoir-et-technologies.org
SUMMARY:Évaluations nationales et tests de positionnement (CP\, CE1\, CM1\, 6e et 4e)
DESCRIPTION:
URL:https://savoir-et-technologies.org/event/evaluations-nationales-et-tests-de-positionnement-cp-ce1-cm1-6e-et-4e/
END:VEVENT
BEGIN:VEVENT
DTSTART;TZID=Europe/Paris:20230904T080000
DTEND;TZID=Europe/Paris:20230904T170000
DTSTAMP:20260425T035800
CREATED:20230826T195230Z
LAST-MODIFIED:20230826T195230Z
UID:3239-1693814400-1693846800@savoir-et-technologies.org
SUMMARY:Rentrée des élèves
DESCRIPTION:
URL:https://savoir-et-technologies.org/event/rentree-des-eleves/
END:VEVENT
END:VCALENDAR